BEGIN:VCALENDAR
VERSION:2.0
PRODID:-//Upper Path Valley Presbyterian Church - ECPv6.15.18//NONSGML v1.0//EN
CALSCALE:GREGORIAN
METHOD:PUBLISH
X-ORIGINAL-URL:https://upvpc.org
X-WR-CALDESC:Events for Upper Path Valley Presbyterian Church
REFRESH-INTERVAL;VALUE=DURATION:PT1H
X-Robots-Tag:noindex
X-PUBLISHED-TTL:PT1H
BEGIN:VTIMEZONE
TZID:America/New_York
BEGIN:DAYLIGHT
TZOFFSETFROM:-0500
TZOFFSETTO:-0400
TZNAME:EDT
DTSTART:20220313T070000
END:DAYLIGHT
BEGIN:STANDARD
TZOFFSETFROM:-0400
TZOFFSETTO:-0500
TZNAME:EST
DTSTART:20221106T060000
END:STANDARD
BEGIN:DAYLIGHT
TZOFFSETFROM:-0500
TZOFFSETTO:-0400
TZNAME:EDT
DTSTART:20230312T070000
END:DAYLIGHT
BEGIN:STANDARD
TZOFFSETFROM:-0400
TZOFFSETTO:-0500
TZNAME:EST
DTSTART:20231105T060000
END:STANDARD
BEGIN:DAYLIGHT
TZOFFSETFROM:-0500
TZOFFSETTO:-0400
TZNAME:EDT
DTSTART:20240310T070000
END:DAYLIGHT
BEGIN:STANDARD
TZOFFSETFROM:-0400
TZOFFSETTO:-0500
TZNAME:EST
DTSTART:20241103T060000
END:STANDARD
END:VTIMEZONE
BEGIN:VEVENT
DTSTART;TZID=America/New_York:20230226T083000
DTEND;TZID=America/New_York:20230226T120000
DTSTAMP:20260423T111316
CREATED:20190610T184314Z
LAST-MODIFIED:20230509T141706Z
UID:5688-1677400200-1677412800@upvpc.org
SUMMARY:Sunday Worship & Small Groups
DESCRIPTION:Join the Upper Path Valley Presbyterian Church for Sunday morning worship. Worship is offered at UPVPC at 8:30 a.m. and 11:00 a.m. almost every Sunday morning. \nWe call it a ‘service’ because we are here to serve God in and through our worship. God\, in turn\, feeds us with spiritual food!  We pray that is what happens in you today! \nShould you need it\, nursery care is available during the 11:00 a.m. service for infants through age 5.  The nursery is located through the double doors found in the right front of the sanctuary.  There is a monitor in the nursery that allows you to see what is happening in the sanctuary if you decide to remain there with your child. \nSmall group classes for all ages are offered from 9:45 – 10:45 a.m.  Children\, teens\, and adults of all ages are invited to come to connect with one another and learn about God through the words of the Bible.  This is where people get to know each other as individuals not just as worship attenders.
URL:https://upvpc.org/event/sunday-worship/2023-02-26/
LOCATION:PA
CATEGORIES:Worship
END:VEVENT
END:VCALENDAR