BEGIN:VCALENDAR
VERSION:2.0
PRODID:-//Upper Path Valley Presbyterian Church - ECPv6.15.18//NONSGML v1.0//EN
CALSCALE:GREGORIAN
METHOD:PUBLISH
X-WR-CALNAME:Upper Path Valley Presbyterian Church
X-ORIGINAL-URL:https://upvpc.org
X-WR-CALDESC:Events for Upper Path Valley Presbyterian Church
REFRESH-INTERVAL;VALUE=DURATION:PT1H
X-Robots-Tag:noindex
X-PUBLISHED-TTL:PT1H
BEGIN:VTIMEZONE
TZID:America/New_York
BEGIN:DAYLIGHT
TZOFFSETFROM:-0500
TZOFFSETTO:-0400
TZNAME:EDT
DTSTART:20220313T070000
END:DAYLIGHT
BEGIN:STANDARD
TZOFFSETFROM:-0400
TZOFFSETTO:-0500
TZNAME:EST
DTSTART:20221106T060000
END:STANDARD
BEGIN:DAYLIGHT
TZOFFSETFROM:-0500
TZOFFSETTO:-0400
TZNAME:EDT
DTSTART:20230312T070000
END:DAYLIGHT
BEGIN:STANDARD
TZOFFSETFROM:-0400
TZOFFSETTO:-0500
TZNAME:EST
DTSTART:20231105T060000
END:STANDARD
BEGIN:DAYLIGHT
TZOFFSETFROM:-0500
TZOFFSETTO:-0400
TZNAME:EDT
DTSTART:20240310T070000
END:DAYLIGHT
BEGIN:STANDARD
TZOFFSETFROM:-0400
TZOFFSETTO:-0500
TZNAME:EST
DTSTART:20241103T060000
END:STANDARD
END:VTIMEZONE
BEGIN:VEVENT
DTSTART;TZID=America/New_York:20230903T100000
DTEND;TZID=America/New_York:20230903T110000
DTSTAMP:20260422T111116
CREATED:20230825T183724Z
LAST-MODIFIED:20230825T183724Z
UID:6807-1693735200-1693738800@upvpc.org
SUMMARY:Unified Worship at 10 a.m.
DESCRIPTION:Join us at UPVPC for one service of worship on Sunday\, September 3rd at 10 a.m. in the church sanctuary. This Sunday will be our move-up Sunday where we will recognize students moving into new small group classes. Our rising Kindergarteners\, 3rd Graders\, 6th Graders\, and 9th Graders will also receive a Bible or devotional this day.
URL:https://upvpc.org/event/unified-worship-at-10-a-m/
LOCATION:PA
CATEGORIES:Worship
END:VEVENT
END:VCALENDAR