BEGIN:VCALENDAR
VERSION:2.0
PRODID:-//Upper Path Valley Presbyterian Church - ECPv6.15.18//NONSGML v1.0//EN
CALSCALE:GREGORIAN
METHOD:PUBLISH
X-ORIGINAL-URL:https://upvpc.org
X-WR-CALDESC:Events for Upper Path Valley Presbyterian Church
REFRESH-INTERVAL;VALUE=DURATION:PT1H
X-Robots-Tag:noindex
X-PUBLISHED-TTL:PT1H
BEGIN:VTIMEZONE
TZID:America/New_York
BEGIN:DAYLIGHT
TZOFFSETFROM:-0500
TZOFFSETTO:-0400
TZNAME:EDT
DTSTART:20230312T070000
END:DAYLIGHT
BEGIN:STANDARD
TZOFFSETFROM:-0400
TZOFFSETTO:-0500
TZNAME:EST
DTSTART:20231105T060000
END:STANDARD
BEGIN:DAYLIGHT
TZOFFSETFROM:-0500
TZOFFSETTO:-0400
TZNAME:EDT
DTSTART:20240310T070000
END:DAYLIGHT
BEGIN:STANDARD
TZOFFSETFROM:-0400
TZOFFSETTO:-0500
TZNAME:EST
DTSTART:20241103T060000
END:STANDARD
BEGIN:DAYLIGHT
TZOFFSETFROM:-0500
TZOFFSETTO:-0400
TZNAME:EDT
DTSTART:20250309T070000
END:DAYLIGHT
BEGIN:STANDARD
TZOFFSETFROM:-0400
TZOFFSETTO:-0500
TZNAME:EST
DTSTART:20251102T060000
END:STANDARD
END:VTIMEZONE
BEGIN:VEVENT
DTSTART;TZID=America/New_York:20241201T083000
DTEND;TZID=America/New_York:20241201T093000
DTSTAMP:20260423T114544
CREATED:20241114T232855Z
LAST-MODIFIED:20241114T232855Z
UID:7155-1733041800-1733045400@upvpc.org
SUMMARY:First Sunday of Advent with Communion
DESCRIPTION:Prepare your hearts for the Advent Season and the marvel & miracle of Christmas.
URL:https://upvpc.org/event/first-sunday-of-advent-with-communion/
LOCATION:PA
CATEGORIES:Worship
END:VEVENT
BEGIN:VEVENT
DTSTART;TZID=America/New_York:20241201T110000
DTEND;TZID=America/New_York:20241201T120000
DTSTAMP:20260423T114544
CREATED:20241114T233027Z
LAST-MODIFIED:20241114T233027Z
UID:7156-1733050800-1733054400@upvpc.org
SUMMARY:First Sunday of Advent with Communion
DESCRIPTION:Prepare your hearts for the Advent Season and the marvel & miracle of Christmas!
URL:https://upvpc.org/event/first-sunday-of-advent-with-communion-2/
LOCATION:PA
CATEGORIES:Worship
END:VEVENT
BEGIN:VEVENT
DTSTART;TZID=America/New_York:20241202T170000
DTEND;TZID=America/New_York:20241202T180000
DTSTAMP:20260423T114544
CREATED:20241114T233120Z
LAST-MODIFIED:20241114T233120Z
UID:7157-1733158800-1733162400@upvpc.org
SUMMARY:Monday Night Community Meal
DESCRIPTION:
URL:https://upvpc.org/event/monday-night-community-meal/
LOCATION:PA
CATEGORIES:Meals
END:VEVENT
BEGIN:VEVENT
DTSTART;TZID=America/New_York:20241204T183000
DTEND;TZID=America/New_York:20241204T193000
DTSTAMP:20260423T114544
CREATED:20241114T233601Z
LAST-MODIFIED:20241114T233601Z
UID:7158-1733337000-1733340600@upvpc.org
SUMMARY:Wednesday Evening Groups
DESCRIPTION:Kids Club: K-5th Grade Students in Classroom 3 \nRooted Youth: 6th-12th Grade Students in Classroom 1 (ends at 8) \nWomen’s Fellowship: “The Marvel & Miracle of Advent” in the Basement \nMen’s Fellowship: A Walk-Through the Bible in the Library
URL:https://upvpc.org/event/wednesday-evening-groups/
LOCATION:PA
CATEGORIES:Bible Study
END:VEVENT
BEGIN:VEVENT
DTSTART;TZID=America/New_York:20241208T083000
DTEND;TZID=America/New_York:20241208T093000
DTSTAMP:20260423T114544
CREATED:20241114T233647Z
LAST-MODIFIED:20241114T233647Z
UID:7159-1733646600-1733650200@upvpc.org
SUMMARY:Second Sunday of Advent
DESCRIPTION:
URL:https://upvpc.org/event/second-sunday-of-advent/
LOCATION:PA
CATEGORIES:Worship
END:VEVENT
BEGIN:VEVENT
DTSTART;TZID=America/New_York:20241208T110000
DTEND;TZID=America/New_York:20241208T120000
DTSTAMP:20260423T114544
CREATED:20241114T233739Z
LAST-MODIFIED:20241114T233739Z
UID:7160-1733655600-1733659200@upvpc.org
SUMMARY:Second Sunday of Advent
DESCRIPTION:
URL:https://upvpc.org/event/second-sunday-of-advent-2/
LOCATION:PA
CATEGORIES:Worship
END:VEVENT
BEGIN:VEVENT
DTSTART;TZID=America/New_York:20241209T170000
DTEND;TZID=America/New_York:20241209T180000
DTSTAMP:20260423T114544
CREATED:20241114T233823Z
LAST-MODIFIED:20241114T233823Z
UID:7161-1733763600-1733767200@upvpc.org
SUMMARY:Monday Night Community Meal
DESCRIPTION:
URL:https://upvpc.org/event/monday-night-community-meal-2/
LOCATION:PA
CATEGORIES:Meals
END:VEVENT
BEGIN:VEVENT
DTSTART;TZID=America/New_York:20241211T183000
DTEND;TZID=America/New_York:20241211T193000
DTSTAMP:20260423T114544
CREATED:20241114T233920Z
LAST-MODIFIED:20241114T233920Z
UID:7162-1733941800-1733945400@upvpc.org
SUMMARY:Wednesday Evening Groups
DESCRIPTION:Kids Club: K-5th Grade Students in Classroom 3 \nRooted Youth: 6th-12th Grade Students in Classroom 1 (ends at 8) \nWomen’s Fellowship: “The Marvel & Miracle of Advent” in the Basement \nMen’s Fellowship: A Walk-Through the Bible in the Library
URL:https://upvpc.org/event/wednesday-evening-groups-2/
LOCATION:PA
CATEGORIES:Bible Study
END:VEVENT
BEGIN:VEVENT
DTSTART;TZID=America/New_York:20241214T170000
DTEND;TZID=America/New_York:20241214T193000
DTSTAMP:20260423T114544
CREATED:20241114T234041Z
LAST-MODIFIED:20241114T234041Z
UID:7163-1734195600-1734204600@upvpc.org
SUMMARY:Drive-Thru Live Nativity @ Hammond's Grove
DESCRIPTION:
URL:https://upvpc.org/event/drive-thru-live-nativity-hammonds-grove/
LOCATION:PA
CATEGORIES:Mission
END:VEVENT
BEGIN:VEVENT
DTSTART;TZID=America/New_York:20241215T083000
DTEND;TZID=America/New_York:20241215T093000
DTSTAMP:20260423T114544
CREATED:20241114T234148Z
LAST-MODIFIED:20241114T234148Z
UID:7164-1734251400-1734255000@upvpc.org
SUMMARY:Third Sunday of Advent with our Annual Christmas Pageant
DESCRIPTION:
URL:https://upvpc.org/event/third-sunday-of-advent-with-our-annual-christmas-pageant/
LOCATION:PA
CATEGORIES:Worship
END:VEVENT
BEGIN:VEVENT
DTSTART;TZID=America/New_York:20241215T110000
DTEND;TZID=America/New_York:20241215T120000
DTSTAMP:20260423T114544
CREATED:20241114T234240Z
LAST-MODIFIED:20241114T234240Z
UID:7165-1734260400-1734264000@upvpc.org
SUMMARY:Third Sunday of Advent with our Annual Christmas Pageant
DESCRIPTION:
URL:https://upvpc.org/event/third-sunday-of-advent-with-our-annual-christmas-pageant-2/
LOCATION:PA
CATEGORIES:Worship
END:VEVENT
BEGIN:VEVENT
DTSTART;TZID=America/New_York:20241216T170000
DTEND;TZID=America/New_York:20241216T180000
DTSTAMP:20260423T114544
CREATED:20241114T234328Z
LAST-MODIFIED:20241114T234328Z
UID:7166-1734368400-1734372000@upvpc.org
SUMMARY:Monday Night Community Meal
DESCRIPTION:
URL:https://upvpc.org/event/monday-night-community-meal-3/
LOCATION:PA
CATEGORIES:Meals
END:VEVENT
BEGIN:VEVENT
DTSTART;TZID=America/New_York:20241218T183000
DTEND;TZID=America/New_York:20241218T193000
DTSTAMP:20260423T114544
CREATED:20241114T234436Z
LAST-MODIFIED:20241114T234446Z
UID:7167-1734546600-1734550200@upvpc.org
SUMMARY:Wednesday Evening Groups
DESCRIPTION:Kids Club: K-5th Grade Students in Classroom 3 \nRooted Youth: 6th-12th Grade Students in Classroom 1 (ends at 8) \nWomen’s Fellowship: “The Marvel & Miracle of Advent” in the Basement \nMen’s Fellowship: A Walk-Through the Bible in the Library
URL:https://upvpc.org/event/wednesday-evening-groups-3/
LOCATION:PA
CATEGORIES:Bible Study
END:VEVENT
BEGIN:VEVENT
DTSTART;TZID=America/New_York:20241222T083000
DTEND;TZID=America/New_York:20241222T093000
DTSTAMP:20260423T114544
CREATED:20241114T234532Z
LAST-MODIFIED:20241114T234532Z
UID:7168-1734856200-1734859800@upvpc.org
SUMMARY:Fourth Sunday of Advent
DESCRIPTION:
URL:https://upvpc.org/event/fourth-sunday-of-advent/
LOCATION:PA
CATEGORIES:Worship
END:VEVENT
BEGIN:VEVENT
DTSTART;TZID=America/New_York:20241222T110000
DTEND;TZID=America/New_York:20241222T120000
DTSTAMP:20260423T114544
CREATED:20241114T234854Z
LAST-MODIFIED:20241114T234854Z
UID:7170-1734865200-1734868800@upvpc.org
SUMMARY:Fourth Sunday of Advent
DESCRIPTION:
URL:https://upvpc.org/event/fourth-sunday-of-advent-2/
LOCATION:PA
CATEGORIES:Worship
END:VEVENT
BEGIN:VEVENT
DTSTART;TZID=America/New_York:20241224T163000
DTEND;TZID=America/New_York:20241224T173000
DTSTAMP:20260423T114544
CREATED:20241114T235015Z
LAST-MODIFIED:20241114T235015Z
UID:7171-1735057800-1735061400@upvpc.org
SUMMARY:Christmas Eve Candlelight Services
DESCRIPTION:
URL:https://upvpc.org/event/christmas-eve-candlelight-services-2/
LOCATION:PA
CATEGORIES:Worship
END:VEVENT
BEGIN:VEVENT
DTSTART;TZID=America/New_York:20241224T190000
DTEND;TZID=America/New_York:20241224T200000
DTSTAMP:20260423T114544
CREATED:20241114T235124Z
LAST-MODIFIED:20241114T235138Z
UID:7172-1735066800-1735070400@upvpc.org
SUMMARY:Christmas Eve Candlelight Services
DESCRIPTION:7 pm Service will Celebrate Communion
URL:https://upvpc.org/event/candlelight-services/
LOCATION:PA
CATEGORIES:Worship
END:VEVENT
BEGIN:VEVENT
DTSTART;TZID=America/New_York:20241225T090000
DTEND;TZID=America/New_York:20241225T100000
DTSTAMP:20260423T114544
CREATED:20241114T235222Z
LAST-MODIFIED:20241114T235222Z
UID:7173-1735117200-1735120800@upvpc.org
SUMMARY:Christmas Day Informal Service
DESCRIPTION:
URL:https://upvpc.org/event/christmas-day-informal-service/
LOCATION:PA
CATEGORIES:Worship
END:VEVENT
BEGIN:VEVENT
DTSTART;TZID=America/New_York:20241229T083000
DTEND;TZID=America/New_York:20241229T093000
DTSTAMP:20260423T114544
CREATED:20241114T235258Z
LAST-MODIFIED:20241114T235258Z
UID:7174-1735461000-1735464600@upvpc.org
SUMMARY:Worship
DESCRIPTION:
URL:https://upvpc.org/event/worship/
LOCATION:PA
CATEGORIES:Worship
END:VEVENT
BEGIN:VEVENT
DTSTART;TZID=America/New_York:20241229T110000
DTEND;TZID=America/New_York:20241229T120000
DTSTAMP:20260423T114544
CREATED:20241114T235328Z
LAST-MODIFIED:20241114T235328Z
UID:7175-1735470000-1735473600@upvpc.org
SUMMARY:Worship
DESCRIPTION:
URL:https://upvpc.org/event/worship-2/
LOCATION:PA
CATEGORIES:Worship
END:VEVENT
END:VCALENDAR