BEGIN:VCALENDAR
VERSION:2.0
PRODID:-//Upper Path Valley Presbyterian Church - ECPv6.15.18//NONSGML v1.0//EN
CALSCALE:GREGORIAN
METHOD:PUBLISH
X-WR-CALNAME:Upper Path Valley Presbyterian Church
X-ORIGINAL-URL:https://upvpc.org
X-WR-CALDESC:Events for Upper Path Valley Presbyterian Church
REFRESH-INTERVAL;VALUE=DURATION:PT1H
X-Robots-Tag:noindex
X-PUBLISHED-TTL:PT1H
BEGIN:VTIMEZONE
TZID:America/New_York
BEGIN:DAYLIGHT
TZOFFSETFROM:-0500
TZOFFSETTO:-0400
TZNAME:EDT
DTSTART:20220313T070000
END:DAYLIGHT
BEGIN:STANDARD
TZOFFSETFROM:-0400
TZOFFSETTO:-0500
TZNAME:EST
DTSTART:20221106T060000
END:STANDARD
BEGIN:DAYLIGHT
TZOFFSETFROM:-0500
TZOFFSETTO:-0400
TZNAME:EDT
DTSTART:20230312T070000
END:DAYLIGHT
BEGIN:STANDARD
TZOFFSETFROM:-0400
TZOFFSETTO:-0500
TZNAME:EST
DTSTART:20231105T060000
END:STANDARD
BEGIN:DAYLIGHT
TZOFFSETFROM:-0500
TZOFFSETTO:-0400
TZNAME:EDT
DTSTART:20240310T070000
END:DAYLIGHT
BEGIN:STANDARD
TZOFFSETFROM:-0400
TZOFFSETTO:-0500
TZNAME:EST
DTSTART:20241103T060000
END:STANDARD
END:VTIMEZONE
BEGIN:VEVENT
DTSTART;TZID=America/New_York:20230222T173000
DTEND;TZID=America/New_York:20230222T193000
DTSTAMP:20260423T211833
CREATED:20230118T195555Z
LAST-MODIFIED:20230215T145717Z
UID:6646-1677087000-1677094200@upvpc.org
SUMMARY:Ash Wednesday Service
DESCRIPTION:Join the Upper Path Valley Presbyterian Church as we enter into the season of Lent. Gather with us on Wednesday\, February 22  in the dining room to share a meal at 5:30 p.m. (bring your own food). At 6:30 p.m. we will gather in the Sanctuary for a time of worship. All are welcome.
URL:https://upvpc.org/event/ash-wednesday-service-2/
LOCATION:PA
CATEGORIES:Worship
END:VEVENT
END:VCALENDAR