BEGIN:VCALENDAR
VERSION:2.0
PRODID:-//Upper Path Valley Presbyterian Church - ECPv6.15.18//NONSGML v1.0//EN
CALSCALE:GREGORIAN
METHOD:PUBLISH
X-WR-CALNAME:Upper Path Valley Presbyterian Church
X-ORIGINAL-URL:https://upvpc.org
X-WR-CALDESC:Events for Upper Path Valley Presbyterian Church
REFRESH-INTERVAL;VALUE=DURATION:PT1H
X-Robots-Tag:noindex
X-PUBLISHED-TTL:PT1H
BEGIN:VTIMEZONE
TZID:America/New_York
BEGIN:DAYLIGHT
TZOFFSETFROM:-0500
TZOFFSETTO:-0400
TZNAME:EDT
DTSTART:20220313T070000
END:DAYLIGHT
BEGIN:STANDARD
TZOFFSETFROM:-0400
TZOFFSETTO:-0500
TZNAME:EST
DTSTART:20221106T060000
END:STANDARD
BEGIN:DAYLIGHT
TZOFFSETFROM:-0500
TZOFFSETTO:-0400
TZNAME:EDT
DTSTART:20230312T070000
END:DAYLIGHT
BEGIN:STANDARD
TZOFFSETFROM:-0400
TZOFFSETTO:-0500
TZNAME:EST
DTSTART:20231105T060000
END:STANDARD
BEGIN:DAYLIGHT
TZOFFSETFROM:-0500
TZOFFSETTO:-0400
TZNAME:EDT
DTSTART:20240310T070000
END:DAYLIGHT
BEGIN:STANDARD
TZOFFSETFROM:-0400
TZOFFSETTO:-0500
TZNAME:EST
DTSTART:20241103T060000
END:STANDARD
END:VTIMEZONE
BEGIN:VEVENT
DTSTART;TZID=America/New_York:20230827T083000
DTEND;TZID=America/New_York:20230827T120000
DTSTAMP:20260424T080738
CREATED:20230825T183423Z
LAST-MODIFIED:20230825T183423Z
UID:6791-1693125000-1693137600@upvpc.org
SUMMARY:Sunday Worship & Small Groups
DESCRIPTION:Join the Upper Path Valley Presbyterian Church for Sunday morning worship. Worship is offered at UPVPC at 8:30 a.m. and 11:00 a.m. almost every Sunday morning. \nWe call it a ‘service’ because we are here to serve God in and through our worship. God\, in turn\, feeds us with spiritual food!  We pray that is what happens in you today! \nSmall group classes for all ages are offered from 9:45 – 10:45 a.m.  Children\, teens\, and adults of all ages are invited to come to connect with one another and learn about God through the words of the Bible.  This is where people get to know each other as individuals not just as worship attenders.
URL:https://upvpc.org/event/sunday-worship-small-groups/2023-08-27/
LOCATION:PA
CATEGORIES:Worship
END:VEVENT
BEGIN:VEVENT
DTSTART;TZID=America/New_York:20230830T183000
DTEND;TZID=America/New_York:20230830T193000
DTSTAMP:20260424T080738
CREATED:20230825T183931Z
LAST-MODIFIED:20230825T183931Z
UID:6808-1693420200-1693423800@upvpc.org
SUMMARY:Men's Fellowship
DESCRIPTION:Gather with your brothers in Christ every Wednesday in the Church Dining Room from 6:30 to 7:30 p.m. This is an informal group that focuses on applying God’s word to our everyday lives. All men are welcome!
URL:https://upvpc.org/event/mens-fellowship-3/
LOCATION:PA
CATEGORIES:Bible Study
END:VEVENT
END:VCALENDAR